BEGIN:VCALENDAR
VERSION:2.0
PRODID:-//ChamberMaster//Event Calendar 2.0//EN
METHOD:PUBLISH
X-PUBLISHED-TTL:P3D
REFRESH-INTERVAL:P3D
CALSCALE:GREGORIAN
BEGIN:VEVENT
DTSTART:20110127T210000Z
DTEND:20110128T010000Z
X-MICROSOFT-CDO-ALLDAYEVENT:FALSE
SUMMARY:Oil Painting Techniques with Travis Jardon
DESCRIPTION:Explore various oil painting techniques with artist\, Travis Jardon at the Blue Pig Gallery. Travis brings a subtle power and depth to his masterful oil paintings through the technique of layering. Bring your own oil paint supplies. Travis offers guidance and demos from 2-6pm. $15.00 per person. Call the gallery 970-464-4819 to register.
X-ALT-DESC;FMTTYPE=text/html:Explore various oil painting techniques with artist\, Travis Jardon at the Blue Pig Gallery. Travis brings a subtle power and depth to his masterful oil paintings through the technique of layering. Bring your own oil paint supplies. Travis offers guidance and demos from 2-6pm. $15.00 per person. Call the gallery 970-464-4819 to register.
LOCATION:The Blue Pig Gallery\, 119 W 3rd St\, Palisade
UID:e.562.331
SEQUENCE:3
DTSTAMP:20260419T122622Z
URL:http://palisade.mobileappview.com/events/details/oil-painting-techniques-with-travis-jardon-01-27-2011-331
END:VEVENT

END:VCALENDAR
