BEGIN:VCALENDAR
VERSION:2.0
PRODID:-//ChamberMaster//Event Calendar 2.0//EN
METHOD:PUBLISH
X-PUBLISHED-TTL:P3D
REFRESH-INTERVAL:P3D
CALSCALE:GREGORIAN
BEGIN:VEVENT
DTSTART:20100923T200000Z
DTEND:20100924T000000Z
X-MICROSOFT-CDO-ALLDAYEVENT:FALSE
SUMMARY:Oil Painting Techniques with Artist\, Travis Jardon
DESCRIPTION:Travis brings a subtle power and depth to his masterful oil paintings through the technique of layering. Bring your own oil paint supplies. Travis offers guidance and demos from 2-6pm. $15.00 per person. Call the Blue Pig Gallery\, 970-464-4819 to reserve your spot.
X-ALT-DESC;FMTTYPE=text/html:Travis brings a subtle power and depth to his masterful oil paintings through the technique of layering. Bring your own oil paint supplies. Travis offers guidance and demos from 2-6pm. $15.00 per person. Call the Blue Pig Gallery\, 970-464-4819 to reserve your spot.  
LOCATION:The Blue Pig Gallery\, 119 W 3rd St\, Palisade
UID:e.562.292
SEQUENCE:3
DTSTAMP:20260419T185357Z
URL:http://palisade.mobileappview.com/events/details/oil-painting-techniques-with-artist-travis-jardon-09-23-2010-292
END:VEVENT

END:VCALENDAR
