BEGIN:VCALENDAR
VERSION:2.0
PRODID:-//ChamberMaster//Event Calendar 2.0//EN
METHOD:PUBLISH
X-PUBLISHED-TTL:P3D
REFRESH-INTERVAL:P3D
CALSCALE:GREGORIAN
BEGIN:VEVENT
DTSTART:20101028T200000Z
DTEND:20101029T000000Z
X-MICROSOFT-CDO-ALLDAYEVENT:FALSE
SUMMARY:Oil Painting: A Variety of Techniques with Travis Jardon
DESCRIPTION:Explore various oil painting techniques with Travis Jardon. Make Art! in this casual\, open studio session. Travis brings a subtle power and depth to his masterful oil paintings through the technique of layering. Bring your own oil paint supplies. Travis offers guidance and demos from 2-6pm. $15.00 per person. Call the gallery 464-4819 to register.
X-ALT-DESC;FMTTYPE=text/html:Explore various oil painting techniques with Travis Jardon. Make Art! in this casual\, open studio session. Travis brings a subtle power and depth to his masterful oil paintings through the technique of layering. Bring your own oil paint supplies. Travis offers guidance and demos from 2-6pm. $15.00 per person. Call the gallery 464-4819 to register.
LOCATION:The Blue Pig Gallery\, 119 W 3rd St\, Palisade\, CO
UID:e.562.314
SEQUENCE:3
DTSTAMP:20260419T173131Z
URL:http://palisade.mobileappview.com/events/details/oil-painting-a-variety-of-techniques-with-travis-jardon-10-28-2010-314
END:VEVENT

END:VCALENDAR
