BEGIN:VCALENDAR
VERSION:2.0
PRODID:-//ChamberMaster//Event Calendar 2.0//EN
METHOD:PUBLISH
X-PUBLISHED-TTL:P3D
REFRESH-INTERVAL:P3D
CALSCALE:GREGORIAN
BEGIN:VEVENT
DTSTART:20090920T160000Z
DTEND:20090920T200000Z
X-MICROSOFT-CDO-ALLDAYEVENT:FALSE
SUMMARY:Observe Artists at Work - Winefest Sunday!
DESCRIPTION:During your visit to Palisade for Winefest\, stop by The Blue Pig Gallery and see artists\, Sara Oakley\, Nancy Cale and Kathy Herzog in action!
X-ALT-DESC;FMTTYPE=text/html:During your visit to Palisade for Winefest\, stop by The Blue Pig Gallery and see artists\, Sara Oakley\, Nancy Cale and Kathy Herzog in action!
LOCATION:The Blue Pig Gallery\, 119 W 3rd St\, Palisade
UID:e.562.83
SEQUENCE:3
DTSTAMP:20260422T141713Z
URL:http://palisade.mobileappview.com/events/details/observe-artists-at-work-winefest-sunday-09-20-2009-83
END:VEVENT

END:VCALENDAR
