BEGIN:VCALENDAR
VERSION:2.0
PRODID:-//ChamberMaster//Event Calendar 2.0//EN
METHOD:PUBLISH
X-PUBLISHED-TTL:P3D
REFRESH-INTERVAL:P3D
CALSCALE:GREGORIAN
BEGIN:VEVENT
DTSTART:20100316T180000Z
DTEND:20100316T190000Z
X-MICROSOFT-CDO-ALLDAYEVENT:FALSE
SUMMARY:Networking at Noon - Palisade Chamber Member Event
DESCRIPTION:The Palisade Chamber of Commerce holds a Business Networking luncheon the 3rd Tuesday of each month for current chamber members.  Members of the group have an opportunity to share and develop business leads.  The monthly presenter is also highlighted in our newsletter.  Contact the chamber to take advantage of this membership benefit.  Call 464-7458 to sign up.
X-ALT-DESC;FMTTYPE=text/html:<div>The Palisade Chamber of Commerce holds a Business Networking luncheon the 3rd Tuesday of each month for current chamber members.&nbsp\; Members of the group have an opportunity to share and develop business leads.&nbsp\; The monthly presenter is also highlighted in our newsletter.&nbsp\; Contact the chamber to take advantage of this membership benefit.&nbsp\; Call 464-7458 to sign up.&nbsp\;</div>
LOCATION:The Red Rose Cafe235 Main StreetPalisade\, CO464-7673www.theredrosecafe.comRSVP to the Chamber at 464-7458
UID:e.562.146
SEQUENCE:3
DTSTAMP:20260420T040516Z
URL:http://palisade.mobileappview.com/events/details/networking-at-noon-palisade-chamber-member-event-03-16-2010-146
END:VEVENT

END:VCALENDAR
