BEGIN:VCALENDAR
VERSION:2.0
PRODID:-//ChamberMaster//Event Calendar 2.0//EN
METHOD:PUBLISH
X-PUBLISHED-TTL:P3D
REFRESH-INTERVAL:P3D
CALSCALE:GREGORIAN
BEGIN:VEVENT
DTSTART:20100814T200000Z
DTEND:20100815T000000Z
X-MICROSOFT-CDO-ALLDAYEVENT:FALSE
SUMMARY:Mulder's Batik Methods with Vera Mulder
DESCRIPTION:Vera offers the opportunity to learn her own batik methods.  You will create a two dimensional art project or invent a new pattern for quilt making.  Be sure to get your materials list when you sign up.  Call The Blue Pig Gallery\, (970) 464-4819 to register for a spot for the 2 - 6 pm session.
X-ALT-DESC;FMTTYPE=text/html:Vera offers the opportunity to learn her own batik methods.  You will create a two dimensional art project or invent a new pattern for quilt making.  Be sure to get your materials list when you sign up.  Call The Blue Pig Gallery\, (970) 464-4819 to register for a spot for the 2 - 6 pm session.
LOCATION:The Blue Pig Gallery\, 119 W 3rd St\, Palisade
UID:e.562.281
SEQUENCE:3
DTSTAMP:20260419T202529Z
URL:http://palisade.mobileappview.com/events/details/mulder-s-batik-methods-with-vera-mulder-08-14-2010-281
END:VEVENT

END:VCALENDAR
