BEGIN:VCALENDAR
VERSION:2.0
PRODID:-//ChamberMaster//Event Calendar 2.0//EN
METHOD:PUBLISH
X-PUBLISHED-TTL:P3D
REFRESH-INTERVAL:P3D
CALSCALE:GREGORIAN
BEGIN:VEVENT
DTSTART:20101016T200000Z
DTEND:20101017T000000Z
X-MICROSOFT-CDO-ALLDAYEVENT:FALSE
SUMMARY:Mulder's Batik Method with Vera Mulder
DESCRIPTION:Artist\, Vera Mulder offers the opportunity to learn her own batik methods. You will create a two dimensional art project or invent a new pattern for quilt making. Be sure to get your materials list when you sign up. Call (970) 464-4819 to register for a spot for the 2 - 6 pm session.
X-ALT-DESC;FMTTYPE=text/html:Artist\, Vera Mulder offers the opportunity to learn her own batik methods. You will create a two dimensional art project or invent a new pattern for quilt making. Be sure to get your materials list when you sign up. Call (970) 464-4819 to register for a spot for the 2 - 6 pm session.
LOCATION:The Blue Pig Gallery\, 119 W 3rd St\, Palisade\, CO
UID:e.562.313
SEQUENCE:3
DTSTAMP:20260419T172724Z
URL:http://palisade.mobileappview.com/events/details/mulder-s-batik-method-with-vera-mulder-10-16-2010-313
END:VEVENT

END:VCALENDAR
