BEGIN:VCALENDAR
VERSION:2.0
PRODID:-//ChamberMaster//Event Calendar 2.0//EN
METHOD:PUBLISH
X-PUBLISHED-TTL:P3D
REFRESH-INTERVAL:P3D
CALSCALE:GREGORIAN
BEGIN:VEVENT
DTSTART:20100918T200000Z
DTEND:20100919T000000Z
X-MICROSOFT-CDO-ALLDAYEVENT:FALSE
SUMMARY:Mulder's Batik Method with Artist\, Vera Mulder
DESCRIPTION:Vera offers the opportunity to learn her own batik methods at The Blue Pig Gallery. You will create a two dimensional art project or invent a new pattern for quilt making.  Be sure to get your materials lists when you R.S.V.P. $15.00 per session. Call 970-464-4819 to reserve your spot for the 2 - 6pm session.
X-ALT-DESC;FMTTYPE=text/html:Vera offers the opportunity to learn her own batik methods at The Blue Pig Gallery. You will create a two dimensional art project or invent a new pattern for quilt making.  Be sure to get your materials lists when you R.S.V.P. $15.00 per session. Call 970-464-4819 to reserve your spot for the 2 - 6pm session.  \n<br>\n<br>
LOCATION:The Blue Pig Gallery\, 119 W 3rd St\, Palisade
UID:e.562.291
SEQUENCE:3
DTSTAMP:20260419T185448Z
URL:http://palisade.mobileappview.com/events/details/mulder-s-batik-method-with-artist-vera-mulder-09-18-2010-291
END:VEVENT

END:VCALENDAR
