BEGIN:VCALENDAR
VERSION:2.0
PRODID:-//ChamberMaster//Event Calendar 2.0//EN
METHOD:PUBLISH
X-PUBLISHED-TTL:P3D
REFRESH-INTERVAL:P3D
CALSCALE:GREGORIAN
BEGIN:VEVENT
DTSTART;VALUE=DATE:20100926
DTEND;VALUE=DATE:20100927
TRANSP:TRANSPARENT
X-MICROSOFT-CDO-ALLDAYEVENT:TRUE
SUMMARY:Mesa County Cattlemen's Association Ranch Rodeo
DESCRIPTION:Competing in events that are meant to re create the work of a ranch cowhand the Ranch Rodeo pits teams of four cowboys in branding\, doctoring\, trailer loading and sorting.  This event will be held in conjunction with the Fruita Fall Festival at Rimrock Rodeo Arena.  Proceeds go to area 4H\, FFA\, Catch a Heifer\, other entities and agricultural education.
X-ALT-DESC;FMTTYPE=text/html:Competing in events that are meant to re create the work of a ranch cowhand the Ranch Rodeo pits teams of four cowboys in branding\, doctoring\, trailer loading and sorting.  This event will be held in conjunction with the Fruita Fall Festival at Rimrock Rodeo Arena.  Proceeds go to area 4H\, FFA\, Catch a Heifer\, other entities and agricultural education.
LOCATION:Rim Rock Rodeo Arena Fruita\, Colorado
UID:e.562.287
SEQUENCE:3
DTSTAMP:20260419T185111Z
URL:http://palisade.mobileappview.com/events/details/mesa-county-cattlemen-s-association-ranch-rodeo-09-26-2010-287
END:VEVENT

END:VCALENDAR
