BEGIN:VCALENDAR
VERSION:2.0
PRODID:-//ChamberMaster//Event Calendar 2.0//EN
METHOD:PUBLISH
X-PUBLISHED-TTL:P3D
REFRESH-INTERVAL:P3D
CALSCALE:GREGORIAN
BEGIN:VEVENT
DTSTART;VALUE=DATE:20100514
DTEND;VALUE=DATE:20100516
TRANSP:TRANSPARENT
X-MICROSOFT-CDO-ALLDAYEVENT:TRUE
SUMMARY:May Barrel into Spring 2010
DESCRIPTION:May Barrel into Spring - Grand Valley Barrel Tasting\n\n\n\nAmong the highlights of the event are gourmet food\, ?behind the scenes? winery and vineyard tours\, and tasting wines that are not readily available to the public that are "in the works" in the wineries. The highly regarded il Bistro Italiano restaurant will be serving foods paired with wines at Carlson Vineyards both days.\n\n\n\nYour hosting wineries of the Grand Valley Winery Association offer a 15% discount on wines to event participants during the barrel tasting weekends.
X-ALT-DESC;FMTTYPE=text/html:May Barrel into Spring - Grand Valley Barrel Tasting\n<br>\n<br>Among the highlights of the event are gourmet food\, ?behind the scenes? winery and vineyard tours\, and tasting wines that are not readily available to the public that are "in the works" in the wineries. The highly regarded il Bistro Italiano restaurant will be serving foods paired with wines at Carlson Vineyards both days.\n<br>\n<br>Your hosting wineries of the Grand Valley Winery Association offer a 15% discount on wines to event participants during the barrel tasting weekends.
LOCATION:Palisade and Grand Junction\, Colorado
UID:e.562.193
SEQUENCE:3
DTSTAMP:20260420T004632Z
URL:http://palisade.mobileappview.com/events/details/may-barrel-into-spring-2010-05-14-2010-193
END:VEVENT

END:VCALENDAR
