BEGIN:VCALENDAR
VERSION:2.0
PRODID:-//ChamberMaster//Event Calendar 2.0//EN
METHOD:PUBLISH
X-PUBLISHED-TTL:P3D
REFRESH-INTERVAL:P3D
CALSCALE:GREGORIAN
BEGIN:VEVENT
DTSTART:20090829T160000Z
DTEND:20090829T233000Z
X-MICROSOFT-CDO-ALLDAYEVENT:FALSE
SUMMARY:Make Art! with Travis Jardon
DESCRIPTION:Painting in Layers with Travis Jardon. Make Art! in this casual\, open studio session. Travis brings a subtle power and depth to his masterful oil paintings through the technique of layering. Bring your own oil paint supplies.
X-ALT-DESC;FMTTYPE=text/html:Painting in Layers with Travis Jardon. Make Art! in this casual\, open studio session. Travis brings a subtle power and depth to his masterful oil paintings through the technique of layering. Bring your own oil paint supplies.
LOCATION:The Blue Pig Gallery\, 119 W 3rd St\, Palisade
UID:e.562.79
SEQUENCE:3
DTSTAMP:20260422T155647Z
URL:http://palisade.mobileappview.com/events/details/make-art-with-travis-jardon-08-29-2009-79
END:VEVENT

END:VCALENDAR
