BEGIN:VCALENDAR
VERSION:2.0
PRODID:-//ChamberMaster//Event Calendar 2.0//EN
METHOD:PUBLISH
X-PUBLISHED-TTL:P3D
REFRESH-INTERVAL:P3D
CALSCALE:GREGORIAN
BEGIN:VEVENT
DTSTART:20090728T190000Z
DTEND:20090728T230000Z
X-MICROSOFT-CDO-ALLDAYEVENT:FALSE
SUMMARY:Make Art! with David Cook
DESCRIPTION:This is a great opportunity for beginning oil painters and for learning new techniques from a renown Instructor. $15-$45 (based on your needs and experience). What do you want to get out of your four hours? Let us know and reserve your spot.
X-ALT-DESC;FMTTYPE=text/html:This is a great opportunity for beginning oil painters and for learning new techniques from a renown Instructor. $15-$45 (based on your needs and experience). What do you want to get out of your four hours? Let us know and reserve your spot. 
LOCATION:The Blue Pig Gallery\, 119 W 3rd St\, Palisade
UID:e.562.56
SEQUENCE:3
DTSTAMP:20260422T173434Z
URL:http://palisade.mobileappview.com/events/details/make-art-with-david-cook-07-28-2009-56
END:VEVENT

END:VCALENDAR
