BEGIN:VCALENDAR
VERSION:2.0
PRODID:-//ChamberMaster//Event Calendar 2.0//EN
METHOD:PUBLISH
X-PUBLISHED-TTL:P3D
REFRESH-INTERVAL:P3D
CALSCALE:GREGORIAN
BEGIN:VEVENT
DTSTART:20100722T200000Z
DTEND:20100723T000000Z
X-MICROSOFT-CDO-ALLDAYEVENT:FALSE
SUMMARY:Make Art: Oil Painting-A Variety of Techniques with Travis Jardon
DESCRIPTION:Travis brings a subtle power and depth to his masterful oil paintings through the technique of layering. Bring your own oil paint supplies. Travis offers guidance and demos from 2-6pm. $15.00 per person. Call 970-464-4819 to reserve your spot.
X-ALT-DESC;FMTTYPE=text/html:Travis brings a subtle power and depth to his masterful oil paintings through the technique of layering. Bring your own oil paint supplies. Travis offers guidance and demos from 2-6pm. $15.00 per person. Call 970-464-4819 to reserve your spot.  
LOCATION:The Blue Pig Gallery\, 119 W 3rd St\, Palisade
UID:e.562.271
SEQUENCE:3
DTSTAMP:20260419T220300Z
URL:http://palisade.mobileappview.com/events/details/make-art-oil-painting-a-variety-of-techniques-with-travis-jardon-07-22-2010-271
END:VEVENT

END:VCALENDAR
