BEGIN:VCALENDAR
VERSION:2.0
PRODID:-//ChamberMaster//Event Calendar 2.0//EN
METHOD:PUBLISH
X-PUBLISHED-TTL:P3D
REFRESH-INTERVAL:P3D
CALSCALE:GREGORIAN
BEGIN:VEVENT
DTSTART:20100720T170000Z
DTEND:20100721T000000Z
X-MICROSOFT-CDO-ALLDAYEVENT:FALSE
SUMMARY:Make Art: Bits & Pieces with Artist\, Gayle Gerson
DESCRIPTION:Gayle offers the opportunity to explore the crazy-quilt possibilities of collage.  Each creative session will start with a short demo of a collage technique by Gayle followed by working alone.  Be sure to get your materials lists when you R.S.V.P. $15 per session.  Call 970-464-4819 to reserve a spot anytime after 11 a.m. and make art for 4 hour sessions.
X-ALT-DESC;FMTTYPE=text/html:Gayle offers the opportunity to explore the crazy-quilt possibilities of collage.  Each creative session will start with a short demo of a collage technique by Gayle followed by working alone.  Be sure to get your materials lists when you R.S.V.P. $15 per session.  Call 970-464-4819 to reserve a spot anytime after 11 a.m. and make art for 4 hour sessions.  
LOCATION:The Blue Pig Gallery\, 119 W 3rd St\, Palisade
UID:e.562.268
SEQUENCE:3
DTSTAMP:20260419T215841Z
URL:http://palisade.mobileappview.com/events/details/make-art-bits-pieces-with-artist-gayle-gerson-07-20-2010-268
END:VEVENT

END:VCALENDAR
