BEGIN:VCALENDAR
VERSION:2.0
PRODID:-//ChamberMaster//Event Calendar 2.0//EN
METHOD:PUBLISH
X-PUBLISHED-TTL:P3D
REFRESH-INTERVAL:P3D
CALSCALE:GREGORIAN
BEGIN:VEVENT
DTSTART:20090804T170000Z
DTEND:20090804T230000Z
X-MICROSOFT-CDO-ALLDAYEVENT:FALSE
SUMMARY:Make Art! - Bits and Pieces with Gayle Gerson
DESCRIPTION:Explore the crazy-quilt possibilities of collage with Gayle at The Blue Pig. Each creative session will start with a short demo of a collage technique by Gayle followed by working alone. Be sure to get your materials lists when you R.S.V.P.
X-ALT-DESC;FMTTYPE=text/html:Explore the crazy-quilt possibilities of collage with Gayle at The Blue Pig. Each creative session will start with a short demo of a collage technique by Gayle followed by working alone. Be sure to get your materials lists when you R.S.V.P. 
LOCATION:The Blue Pig Gallery\, 119 W 3rd St\, Palisade
UID:e.562.68
SEQUENCE:3
DTSTAMP:20260422T155832Z
URL:http://palisade.mobileappview.com/events/details/make-art-bits-and-pieces-with-gayle-gerson-08-04-2009-68
END:VEVENT

END:VCALENDAR
