BEGIN:VCALENDAR
VERSION:2.0
PRODID:-//ChamberMaster//Event Calendar 2.0//EN
METHOD:PUBLISH
X-PUBLISHED-TTL:P3D
REFRESH-INTERVAL:P3D
CALSCALE:GREGORIAN
BEGIN:VEVENT
DTSTART:20100321T020000Z
DTEND:20100321T040000Z
X-MICROSOFT-CDO-ALLDAYEVENT:FALSE
SUMMARY:Karaoke and Guitar Hero
DESCRIPTION:The Bistro 743 Lounge at The Doubletree Hotel invites you to come and sing or play along to your favorite song at our Karaoke and Guitar Hero night! Must be 21 or older to attend.
X-ALT-DESC;FMTTYPE=text/html:The Bistro 743 Lounge at The Doubletree Hotel invites you to come and sing or play along to your favorite song at our Karaoke and Guitar Hero night! Must be 21 or older to attend. 
LOCATION:743 Horizon Drive
UID:e.562.172
SEQUENCE:3
DTSTAMP:20260420T040630Z
URL:http://palisade.mobileappview.com/events/details/karaoke-and-guitar-hero-03-20-2010-172
END:VEVENT

END:VCALENDAR
