BEGIN:VCALENDAR
VERSION:2.0
PRODID:-//ChamberMaster//Event Calendar 2.0//EN
METHOD:PUBLISH
X-PUBLISHED-TTL:P3D
REFRESH-INTERVAL:P3D
CALSCALE:GREGORIAN
BEGIN:VEVENT
DTSTART:20090617T233000Z
DTEND:20090618T013000Z
X-MICROSOFT-CDO-ALLDAYEVENT:FALSE
SUMMARY:June Business after Hours
DESCRIPTION:June Business after Hours social Wednesday the 17th of JuneTheme for tonights social is "Summer Sports"
X-ALT-DESC;FMTTYPE=text/html:<div>June Business after Hours social Wednesday the 17th of June</div><div>Theme for tonights social is &quot\;Summer Sports&quot\;</div>
LOCATION:Hosted by: American National Bank 569 32 Rd Grand Junction Co
UID:e.562.9
SEQUENCE:3
DTSTAMP:20260422T191206Z
URL:http://palisade.mobileappview.com/events/details/june-business-after-hours-06-17-2009-9
END:VEVENT

END:VCALENDAR
