BEGIN:VCALENDAR
VERSION:2.0
PRODID:-//ChamberMaster//Event Calendar 2.0//EN
METHOD:PUBLISH
X-PUBLISHED-TTL:P3D
REFRESH-INTERVAL:P3D
CALSCALE:GREGORIAN
BEGIN:VEVENT
DTSTART;VALUE=DATE:20100319
DTEND;VALUE=DATE:20100320
TRANSP:TRANSPARENT
X-MICROSOFT-CDO-ALLDAYEVENT:TRUE
SUMMARY:Howard Berkman & Big Bottom Perform
DESCRIPTION:Enjoy blues music performed by Howard Berkman $ Big Bottom live at Bistro 742 Lounge in the Doubletree Hotel. Must be 21 or over to attend.
X-ALT-DESC;FMTTYPE=text/html:Enjoy blues music performed by Howard Berkman $ Big Bottom live at Bistro 742 Lounge in the Doubletree Hotel. Must be 21 or over to attend.
LOCATION:743 Horizon Drive
UID:e.562.171
SEQUENCE:3
DTSTAMP:20260420T040300Z
URL:http://palisade.mobileappview.com/events/details/howard-berkman-big-bottom-perform-03-19-2010-171
END:VEVENT

END:VCALENDAR
