BEGIN:VCALENDAR
VERSION:2.0
PRODID:-//ChamberMaster//Event Calendar 2.0//EN
METHOD:PUBLISH
X-PUBLISHED-TTL:P3D
REFRESH-INTERVAL:P3D
CALSCALE:GREGORIAN
BEGIN:VEVENT
DTSTART:20100121T220000Z
DTEND:20100121T220000Z
X-MICROSOFT-CDO-ALLDAYEVENT:FALSE
SUMMARY:Healthy Lifestyle Lecture Series
DESCRIPTION:Monthly healthy lifestyle topics are being presented and then we have an interactive coaching session. July's topic is: Emotional wellness
X-ALT-DESC;FMTTYPE=text/html:<div>Monthly healthy lifestyle topics are being presented and then we have an interactive coaching session.</div><div>&nbsp\;</div><div>July's topic is: Emotional wellness</div>
LOCATION:Mumzel's Crumpets\, Cups & Cones3rd & Main StPalisade Co 81526
UID:e.562.40
SEQUENCE:3
DTSTAMP:20260420T070118Z
URL:http://palisade.mobileappview.com/events/details/healthy-lifestyle-lecture-series-01-21-2010-40
END:VEVENT

END:VCALENDAR
