BEGIN:VCALENDAR
VERSION:2.0
PRODID:-//ChamberMaster//Event Calendar 2.0//EN
METHOD:PUBLISH
X-PUBLISHED-TTL:P3D
REFRESH-INTERVAL:P3D
CALSCALE:GREGORIAN
BEGIN:VEVENT
DTSTART:20091018T000000Z
DTEND:20091018T020000Z
X-MICROSOFT-CDO-ALLDAYEVENT:FALSE
SUMMARY:Flat Top Reed Concert
DESCRIPTION:Come relax and enjoy a free concert by Flat Top Reed on The Blue Pig Gallery's patio as we continue to celebrate the 1st Annual Honeybee Festival.
X-ALT-DESC;FMTTYPE=text/html:Come relax and enjoy a free concert by Flat Top Reed on The Blue Pig Gallery's patio as we continue to celebrate the 1st Annual Honeybee Festival.
LOCATION:The Blue Pig Gallery 119 W 3rd St\, Palisade
UID:e.562.95
SEQUENCE:3
DTSTAMP:20260422T124137Z
URL:http://palisade.mobileappview.com/events/details/flat-top-reed-concert-10-17-2009-95
END:VEVENT

END:VCALENDAR
