BEGIN:VCALENDAR
VERSION:2.0
PRODID:-//ChamberMaster//Event Calendar 2.0//EN
METHOD:PUBLISH
X-PUBLISHED-TTL:P3D
REFRESH-INTERVAL:P3D
CALSCALE:GREGORIAN
BEGIN:VEVENT
DTSTART;VALUE=DATE:20110218
DTEND;VALUE=DATE:20110219
TRANSP:TRANSPARENT
X-MICROSOFT-CDO-ALLDAYEVENT:TRUE
SUMMARY:February Full Moon Party at Powderhorn Resort
DESCRIPTION:Get ready for the full moon at Powderhorn's Sunset Grille & Bar.  Live music with Dualakoo from 4 to 7pm\, drink specials and 50% off of select appetizers.
X-ALT-DESC;FMTTYPE=text/html:Get ready for the full moon at Powderhorn's Sunset Grille &amp\; Bar.  Live music with Dualakoo from 4 to 7pm\, drink specials and 50% off of select appetizers.  
LOCATION:Powderhorn Resort's Sunset Grille & Bar
UID:e.562.884
SEQUENCE:3
DTSTAMP:20260419T104414Z
URL:http://palisade.mobileappview.com/events/details/february-full-moon-party-at-powderhorn-resort-02-18-2011-884
END:VEVENT

END:VCALENDAR
