BEGIN:VCALENDAR
VERSION:2.0
PRODID:-//ChamberMaster//Event Calendar 2.0//EN
METHOD:PUBLISH
X-PUBLISHED-TTL:P3D
REFRESH-INTERVAL:P3D
CALSCALE:GREGORIAN
BEGIN:VEVENT
DTSTART:20091025T160000Z
DTEND:20091025T200000Z
X-MICROSOFT-CDO-ALLDAYEVENT:FALSE
SUMMARY:Feast in the Streets
DESCRIPTION:Celebrate the Bountiful Summer Harvest.  Palisade "A La Carte" Cuisine and Palisade Spirits.  Live entertainment in a family friendly environment.
X-ALT-DESC;FMTTYPE=text/html:<div>Celebrate the Bountiful Summer Harvest.&nbsp\; Palisade &quot\;A La Carte&quot\; Cuisine and Palisade Spirits.&nbsp\; Live entertainment in a family friendly environment.</div>
LOCATION:3rd & Main Street in beautiful downtown Palisade.
UID:e.562.99
SEQUENCE:3
DTSTAMP:20260422T124134Z
URL:http://palisade.mobileappview.com/events/details/feast-in-the-streets-10-25-2009-99
END:VEVENT

END:VCALENDAR
