BEGIN:VCALENDAR
VERSION:2.0
PRODID:-//ChamberMaster//Event Calendar 2.0//EN
METHOD:PUBLISH
X-PUBLISHED-TTL:P3D
REFRESH-INTERVAL:P3D
CALSCALE:GREGORIAN
BEGIN:VEVENT
DTSTART:20101024T160000Z
DTEND:20101024T200000Z
X-MICROSOFT-CDO-ALLDAYEVENT:FALSE
SUMMARY:Feast in the Street and Last Farmers Market
DESCRIPTION:Final Farmers Market and Feast in the Streets.\n\n\n\nPlease come join us to celebrate the end of Harvest Season.
X-ALT-DESC;FMTTYPE=text/html:Final Farmers Market and Feast in the Streets.<br />\n<br />\nPlease come join us&nbsp\;to celebrate the end of Harvest Season.
LOCATION:Down Town Palisade Corner of Main and 3rd
UID:e.562.316
SEQUENCE:3
DTSTAMP:20260419T173316Z
URL:http://palisade.mobileappview.com/events/details/feast-in-the-street-and-last-farmers-market-10-24-2010-316
END:VEVENT

END:VCALENDAR
