BEGIN:VCALENDAR
VERSION:2.0
PRODID:-//ChamberMaster//Event Calendar 2.0//EN
METHOD:PUBLISH
X-PUBLISHED-TTL:P3D
REFRESH-INTERVAL:P3D
CALSCALE:GREGORIAN
BEGIN:VEVENT
DTSTART:20100919T160000Z
DTEND:20100919T220000Z
X-MICROSOFT-CDO-ALLDAYEVENT:FALSE
SUMMARY:Fall Flat Top Festival
DESCRIPTION:Enjoy the Fall colors with a lift ride to the top of the Mesa.  Enjoy food\, live music\, shopping\, an art corral for the kiddos and bump n jump.
X-ALT-DESC;FMTTYPE=text/html:Enjoy the Fall colors with a lift ride to the top of the Mesa.  Enjoy food\, live music\, shopping\, an art corral for the kiddos and bump n jump.
LOCATION:Powderhorn Resort
UID:e.562.285
SEQUENCE:3
DTSTAMP:20260419T184947Z
URL:http://palisade.mobileappview.com/events/details/fall-flat-top-festival-09-19-2010-285
END:VEVENT

END:VCALENDAR
