BEGIN:VCALENDAR
VERSION:2.0
PRODID:-//ChamberMaster//Event Calendar 2.0//EN
METHOD:PUBLISH
X-PUBLISHED-TTL:P3D
REFRESH-INTERVAL:P3D
CALSCALE:GREGORIAN
BEGIN:VEVENT
DTSTART:20090612T230000Z
DTEND:20090613T040000Z
X-MICROSOFT-CDO-ALLDAYEVENT:FALSE
SUMMARY:Event at Wine Country Inn
DESCRIPTION:Wine Coutnry Inn is host to the Bands featured at the Palisade Bluegrass & Roots Music Fest June 12\, 13 & 14. On Friday and Saturday evening join us on the Patio for a Grilled Burger\, hot dog or Brat for just $5. Jam sessions will be encouraged. On Friday come and listen to the sounds of bluegrass with Brian James and the Widow Makers from 7pm-10pm. Cash Bar. Special room rates avialable starting at $99.00 double occpancy.
X-ALT-DESC;FMTTYPE=text/html:Wine Coutnry Inn is host to the Bands featured at the Palisade Bluegrass & Roots Music Fest June 12\, 13 & 14. On Friday and Saturday evening join us on the Patio for a Grilled Burger\, hot dog or Brat for just $5. Jam sessions will be encouraged. On Friday come and listen to the sounds of bluegrass with Brian James and the Widow Makers from 7pm-10pm. Cash Bar. Special room rates avialable starting at $99.00 double occpancy.
LOCATION:Wine Country Inn\, 777 Grande River Drive\, Palisade
UID:e.562.8
SEQUENCE:3
DTSTAMP:20260422T191321Z
URL:http://palisade.mobileappview.com/events/details/event-at-wine-country-inn-06-12-2009-8
END:VEVENT

END:VCALENDAR
