BEGIN:VCALENDAR
VERSION:2.0
PRODID:-//ChamberMaster//Event Calendar 2.0//EN
METHOD:PUBLISH
X-PUBLISHED-TTL:P3D
REFRESH-INTERVAL:P3D
CALSCALE:GREGORIAN
BEGIN:VEVENT
DTSTART;VALUE=DATE:20090820
DTEND;VALUE=DATE:20090821
TRANSP:TRANSPARENT
X-MICROSOFT-CDO-ALLDAYEVENT:TRUE
SUMMARY:Event at Mesa Land Trust
DESCRIPTION:Dine in the Vines: a unique Mesa Land Trust Event at the Red Fox Vineyard. Spend an evening enjoying the Red Fox Vineyard with the local wine from Carlson Vineyards and Garfield Estates. Tours of the vineyard will be led  by the gracious hosts\, Ken & Kathryn Stubler. A rustic family style dinner will be prepared by local chef John Barbier of Le Rouge\, inspired from the bountiful harvest from local farms. Dinner will be served al fresco amongst the grapes.  For added splendor\nthere will be live entertainment by John Schultz and a silent auction which will allow you to commission a special painting by Charles Morris or George Callison or purchase one of Malcolm Childers' memorable photo/paintings. Come and celebrate the misssion of the Mesa Land Trust...protecting agricultural lands\, wildlife habitat\, and open space in and around Mesa County.
X-ALT-DESC;FMTTYPE=text/html:Dine in the Vines: a unique Mesa Land Trust Event at the Red Fox Vineyard. Spend an evening enjoying the Red Fox Vineyard with the local wine from Carlson Vineyards and Garfield Estates. Tours of the vineyard will be led  by the gracious hosts\, Ken & Kathryn Stubler. A rustic family style dinner will be prepared by local chef John Barbier of Le Rouge\, inspired from the bountiful harvest from local farms. Dinner will be served al fresco amongst the grapes.  For added splendor\nthere will be live entertainment by John Schultz and a silent auction which will allow you to commission a special painting by Charles Morris or George Callison or purchase one of Malcolm Childers' memorable photo/paintings. Come and celebrate the misssion of the Mesa Land Trust...protecting agricultural lands\, wildlife habitat\, and open space in and around Mesa County.
LOCATION:Red Fox Vineyard
UID:e.562.63
SEQUENCE:3
DTSTAMP:20260422T155720Z
URL:http://palisade.mobileappview.com/events/details/event-at-mesa-land-trust-08-20-2009-63
END:VEVENT

END:VCALENDAR
