BEGIN:VCALENDAR
VERSION:2.0
PRODID:-//ChamberMaster//Event Calendar 2.0//EN
METHOD:PUBLISH
X-PUBLISHED-TTL:P3D
REFRESH-INTERVAL:P3D
CALSCALE:GREGORIAN
BEGIN:VEVENT
DTSTART:20110331T210000Z
DTEND:20110331T230000Z
X-MICROSOFT-CDO-ALLDAYEVENT:FALSE
SUMMARY:Dynamic Landscapes with Barbara Churchley
DESCRIPTION:"Create Dynamic Landscapes in Oils" with Barbara Churchley using brushes in combination with a palette knife. Bring photo references and your plein air painting materials. Easels will be supplied. Barb will offer one on one guidance during the session. Session is from 3:00 pm - 5:00 pm. Session fee is $25 per person.  Call the Blue Pig Gallery at 970-464-4819 to register.
X-ALT-DESC;FMTTYPE=text/html:"Create Dynamic Landscapes in Oils" with Barbara Churchley using brushes in combination with a palette knife. Bring photo references and your plein air painting materials. Easels will be supplied. Barb will offer one on one guidance during the session. Session is from 3:00 pm - 5:00 pm. Session fee is $25 per person.  Call the Blue Pig Gallery at 970-464-4819 to register.
LOCATION:The Blue Pig Gallery\, 119 W 3rd St\, Palisade
UID:e.562.946
SEQUENCE:3
DTSTAMP:20260421T085507Z
URL:http://palisade.mobileappview.com/events/details/dynamic-landscapes-with-barbara-churchley-03-31-2011-946
END:VEVENT

END:VCALENDAR
