BEGIN:VCALENDAR
VERSION:2.0
PRODID:-//ChamberMaster//Event Calendar 2.0//EN
METHOD:PUBLISH
X-PUBLISHED-TTL:P3D
REFRESH-INTERVAL:P3D
CALSCALE:GREGORIAN
BEGIN:VEVENT
DTSTART:20101015T210000Z
DTEND:20101015T230000Z
X-MICROSOFT-CDO-ALLDAYEVENT:FALSE
SUMMARY:Dynamic Landscapes In Oils with Barbara Churchley
DESCRIPTION:"Create Dynamic Landscapes in Oils" with artist\, Barbara Churchley using brushes in combination with a palette knife. Bring photo references and your plein air painting materials. Easels will be supplied. Barb will offer one on one guidance during the session. Cost is $15. One session from 3-5 pm. Call 970-464-4819 to register.
X-ALT-DESC;FMTTYPE=text/html:"Create Dynamic Landscapes in Oils" with artist\, Barbara Churchley using brushes in combination with a palette knife. Bring photo references and your plein air painting materials. Easels will be supplied. Barb will offer one on one guidance during the session. Cost is $15. One session from 3-5 pm. Call 970-464-4819 to register.
LOCATION:The Blue Pig Gallery\, 119 W 3rd St\, Palisade\, CO
UID:e.562.312
SEQUENCE:3
DTSTAMP:20260419T173055Z
URL:http://palisade.mobileappview.com/events/details/dynamic-landscapes-in-oils-with-barbara-churchley-10-15-2010-312
END:VEVENT

END:VCALENDAR
