BEGIN:VCALENDAR
VERSION:2.0
PRODID:-//ChamberMaster//Event Calendar 2.0//EN
METHOD:PUBLISH
X-PUBLISHED-TTL:P3D
REFRESH-INTERVAL:P3D
CALSCALE:GREGORIAN
BEGIN:VEVENT
DTSTART:20100818T200000Z
DTEND:20100818T220000Z
X-MICROSOFT-CDO-ALLDAYEVENT:FALSE
SUMMARY:Dynamic Landscapes in Oil with Barbara Churchley
DESCRIPTION:Create dynamic landscapes in oils with Barbara Churchley using brushes in combination with a palette knife.  Bring photo references and your plein air painting materials.  Easels will be supplied.  Barb will offer one on one guidance during the session.  $15 per session\, 2 - 4pm.  Call The Blue Pig Gallery\, 970-464-4819 to register.
X-ALT-DESC;FMTTYPE=text/html:Create dynamic landscapes in oils with Barbara Churchley using brushes in combination with a palette knife.  Bring photo references and your plein air painting materials.  Easels will be supplied.  Barb will offer one on one guidance during the session.  $15 per session\, 2 - 4pm.  Call The Blue Pig Gallery\, 970-464-4819 to register.
LOCATION:The Blue Pig Gallery\, 119 W 3rd St\, Palisade
UID:e.562.280
SEQUENCE:3
DTSTAMP:20260419T203221Z
URL:http://palisade.mobileappview.com/events/details/dynamic-landscapes-in-oil-with-barbara-churchley-08-18-2010-280
END:VEVENT

END:VCALENDAR
