BEGIN:VCALENDAR
VERSION:2.0
PRODID:-//ChamberMaster//Event Calendar 2.0//EN
METHOD:PUBLISH
X-PUBLISHED-TTL:P3D
REFRESH-INTERVAL:P3D
CALSCALE:GREGORIAN
BEGIN:VEVENT
DTSTART:20100521T200000Z
DTEND:20100521T220000Z
X-MICROSOFT-CDO-ALLDAYEVENT:FALSE
SUMMARY:Dynamic Landscapes in Oil with Artist\, Barbara Churchley
DESCRIPTION:Create Dynamic Landscapes in Oils with Barbara Churchley using brushes in combination with a palette knife. Bring photo references and your plein air painting materials. Easels will be supplied. Barb will offer one on one guidance during the session. Cost is $15. from 2 - 4 pm. Call the Blue Pig Gallery\, 970-464-4819 to register or visit:  www.thebluepiggallery.com.
X-ALT-DESC;FMTTYPE=text/html:Create Dynamic Landscapes in Oils with Barbara Churchley using brushes in combination with a palette knife. Bring photo references and your plein air painting materials. Easels will be supplied. Barb will offer one on one guidance during the session. Cost is $15. from 2 - 4 pm. Call the Blue Pig Gallery\, 970-464-4819 to register or visit:  www.thebluepiggallery.com.\n<br>
LOCATION:The Blue Pig Gallery\, 119 W 3rd St\, Palisade
UID:e.562.192
SEQUENCE:3
DTSTAMP:20260420T011258Z
URL:http://palisade.mobileappview.com/events/details/dynamic-landscapes-in-oil-with-artist-barbara-churchley-05-21-2010-192
END:VEVENT

END:VCALENDAR
