BEGIN:VCALENDAR
VERSION:2.0
PRODID:-//ChamberMaster//Event Calendar 2.0//EN
METHOD:PUBLISH
X-PUBLISHED-TTL:P3D
REFRESH-INTERVAL:P3D
CALSCALE:GREGORIAN
BEGIN:VEVENT
DTSTART:20100306T030000Z
DTEND:20100306T060000Z
X-MICROSOFT-CDO-ALLDAYEVENT:FALSE
SUMMARY:Dualakoo Performs
DESCRIPTION:Dualakoo performs live 90's Rock at the Bistro 743 Lounge at the Doubletree Hotel.
X-ALT-DESC;FMTTYPE=text/html:Dualakoo performs live 90's Rock at the Bistro 743 Lounge at the Doubletree Hotel. 
LOCATION:743 Horizon Drive
UID:e.562.166
SEQUENCE:3
DTSTAMP:20260420T040137Z
URL:http://palisade.mobileappview.com/events/details/dualakoo-performs-03-05-2010-166
END:VEVENT

END:VCALENDAR
