BEGIN:VCALENDAR
VERSION:2.0
PRODID:-//ChamberMaster//Event Calendar 2.0//EN
METHOD:PUBLISH
X-PUBLISHED-TTL:P3D
REFRESH-INTERVAL:P3D
CALSCALE:GREGORIAN
BEGIN:VEVENT
DTSTART;VALUE=DATE:20091031
DTEND;VALUE=DATE:20091101
TRANSP:TRANSPARENT
X-MICROSOFT-CDO-ALLDAYEVENT:TRUE
SUMMARY:Dracula Night Halloween Party
DESCRIPTION:Dance the Night Away with DJ SwayCostume Contest with Prizes every Half HourA Spooky BONFIRE AT SUNDOWN Best Costume PrizeisTwo ticket to our New Year's Eve Party withStray Grass & FirefallAnd One Night Stay
X-ALT-DESC;FMTTYPE=text/html:<div style="text-align: center">Dance the Night Away with DJ Sway</div><div style="text-align: center">Costume Contest with Prizes every Half Hour</div><div style="text-align: center">A Spooky BONFIRE AT SUNDOWN</div><div style="text-align: center">&nbsp\;</div><div style="text-align: center">Best Costume Prize</div><div style="text-align: center">is</div><div style="text-align: center">Two ticket to our New Year's Eve Party with</div><div style="text-align: center">Stray Grass &amp\; Firefall</div><div style="text-align: center">And One Night Stay</div>
LOCATION:Double Tree HotelGrand JunctionPhone 241-8888
UID:e.562.110
SEQUENCE:3
DTSTAMP:20260422T124212Z
URL:http://palisade.mobileappview.com/events/details/dracula-night-halloween-party-10-31-2009-110
END:VEVENT

END:VCALENDAR
