BEGIN:VCALENDAR
VERSION:2.0
PRODID:-//ChamberMaster//Event Calendar 2.0//EN
METHOD:PUBLISH
X-PUBLISHED-TTL:P3D
REFRESH-INTERVAL:P3D
CALSCALE:GREGORIAN
BEGIN:VEVENT
DTSTART;VALUE=DATE:20100916
DTEND;VALUE=DATE:20100920
TRANSP:TRANSPARENT
X-MICROSOFT-CDO-ALLDAYEVENT:TRUE
SUMMARY:Colorado Wine Fest
DESCRIPTION:COLORADO MOUNTAIN FEST: Thousands of wine lovers make the annual pilgrimage to Palisade to sample a growing array of Colorado wines and participate in a variety of events.  Toast the grape harvest and raise your glass to Colorado's finest vintages at the state's oldest\, largest and best wine festival\, and the only festival held in the heart of Colorado's wine country.
X-ALT-DESC;FMTTYPE=text/html:<div>COLORADO&nbsp\;MOUNTAIN&nbsp\;FEST:</div><div>&nbsp\;</div><div>Thousands of wine lovers make the annual pilgrimage to Palisade to sample a growing array of Colorado wines and participate in a variety of events.&nbsp\; Toast the grape harvest and raise your glass to Colorado's finest vintages at the state's oldest\, largest and best wine festival\, and the only festival held in the heart of Colorado's wine country.</div>
LOCATION:
UID:e.562.216
SEQUENCE:3
DTSTAMP:20260419T185038Z
URL:http://palisade.mobileappview.com/events/details/colorado-wine-fest-09-16-2010-216
END:VEVENT

END:VCALENDAR
