BEGIN:VCALENDAR
VERSION:2.0
PRODID:-//ChamberMaster//Event Calendar 2.0//EN
METHOD:PUBLISH
X-PUBLISHED-TTL:P3D
REFRESH-INTERVAL:P3D
CALSCALE:GREGORIAN
BEGIN:VEVENT
DTSTART:20100828T140000Z
DTEND:20100828T180000Z
X-MICROSOFT-CDO-ALLDAYEVENT:FALSE
SUMMARY:Colorado National Monument Walk Through Time
DESCRIPTION:Visitors are invited to leave their cars and stroll\, run or cycle through the Monument.  A day of enjoyment for all\, leashed canine friends are welcome to accompany their owners as they enjoy the stunning views from Historic Rim Rock Drive without the distraction of traffic noise.
X-ALT-DESC;FMTTYPE=text/html:Visitors are invited to leave their cars and stroll\, run or cycle through the Monument.  A day of enjoyment for all\, leashed canine friends are welcome to accompany their owners as they enjoy the stunning views from Historic Rim Rock Drive without the distraction of traffic noise.  
LOCATION:Colorado National Monument Visitor Center
UID:e.562.302
SEQUENCE:3
DTSTAMP:20260419T202529Z
URL:http://palisade.mobileappview.com/events/details/colorado-national-monument-walk-through-time-08-28-2010-302
END:VEVENT

END:VCALENDAR
