BEGIN:VCALENDAR
VERSION:2.0
PRODID:-//ChamberMaster//Event Calendar 2.0//EN
METHOD:PUBLISH
X-PUBLISHED-TTL:P3D
REFRESH-INTERVAL:P3D
CALSCALE:GREGORIAN
BEGIN:VEVENT
DTSTART;VALUE=DATE:20101211
DTEND;VALUE=DATE:20101213
TRANSP:TRANSPARENT
X-MICROSOFT-CDO-ALLDAYEVENT:TRUE
SUMMARY:Colorado National Monument Holiday Open House
DESCRIPTION:Colorado National Monument Association welcomes visitors to the top of the Monument\, where a special 20% discount is offered to all shoppers.  The Open House features the debut of the Colorado National Monument Centennial Holiday Ornament.  Shoppers can browse the store and visit the exhibit room\, where a gallery will be set up\, displaying the artwork of Grand Valley elementary\, middle\, and high school students.
X-ALT-DESC;FMTTYPE=text/html:Colorado National Monument Association welcomes visitors to the top of the Monument\, where a special 20% discount is offered to all shoppers.  The Open House features the debut of the Colorado National Monument Centennial Holiday Ornament.  Shoppers can browse the store and visit the exhibit room\, where a gallery will be set up\, displaying the artwork of Grand Valley elementary\, middle\, and high school students.  
LOCATION:Colorado National Monument Visitor Center
UID:e.562.296
SEQUENCE:3
DTSTAMP:20260419T140847Z
URL:http://palisade.mobileappview.com/events/details/colorado-national-monument-holiday-open-house-12-11-2010-296
END:VEVENT

END:VCALENDAR
