BEGIN:VCALENDAR
VERSION:2.0
PRODID:-//ChamberMaster//Event Calendar 2.0//EN
METHOD:PUBLISH
X-PUBLISHED-TTL:P3D
REFRESH-INTERVAL:P3D
CALSCALE:GREGORIAN
BEGIN:VEVENT
DTSTART;VALUE=DATE:20101125
DTEND;VALUE=DATE:20110103
TRANSP:TRANSPARENT
X-MICROSOFT-CDO-ALLDAYEVENT:TRUE
SUMMARY:Colorado National Monument Centennial Youth Art Contest and Exhibit
DESCRIPTION:The work of elementary\, middle\, and high school students from Mesa County Valley School District 51 will be displayed at the Visitor Center beginning November 25.  A People's Choice contest will determine Best of Show at all three levels.
X-ALT-DESC;FMTTYPE=text/html:The work of elementary\, middle\, and high school students from Mesa County Valley School District 51 will be displayed at the Visitor Center beginning November 25.  A People's Choice contest will determine Best of Show at all three levels.
LOCATION:Colorado National Monument Visitor Center
UID:e.562.295
SEQUENCE:3
DTSTAMP:20260419T122725Z
URL:http://palisade.mobileappview.com/events/details/colorado-national-monument-centennial-youth-art-contest-and-exhibit-11-25-2010-295
END:VEVENT

END:VCALENDAR
