BEGIN:VCALENDAR
VERSION:2.0
PRODID:-//ChamberMaster//Event Calendar 2.0//EN
METHOD:PUBLISH
X-PUBLISHED-TTL:P3D
REFRESH-INTERVAL:P3D
CALSCALE:GREGORIAN
BEGIN:VEVENT
DTSTART;VALUE=DATE:20101231
DTEND;VALUE=DATE:20110101
TRANSP:TRANSPARENT
X-MICROSOFT-CDO-ALLDAYEVENT:TRUE
SUMMARY:Colorado National Monument Centennial Kick-Off Extravaganza Fireworks Display
DESCRIPTION:Following a day of activities for the entire family\, the public will be invited to enjoy a fireworks display from the Visitor Center area\, kicking off the 2011 Colorado National Monument Centennial celebration.
X-ALT-DESC;FMTTYPE=text/html:Following a day of activities for the entire family\, the public will be invited to enjoy a fireworks display from the Visitor Center area\, kicking off the 2011 Colorado National Monument Centennial celebration.
LOCATION:Colorado National Monument Visitor Center
UID:e.562.297
SEQUENCE:3
DTSTAMP:20260419T140742Z
URL:http://palisade.mobileappview.com/events/details/colorado-national-monument-centennial-kick-off-extravaganza-fireworks-display-12-31-2010-297
END:VEVENT

END:VCALENDAR
