BEGIN:VCALENDAR
VERSION:2.0
PRODID:-//ChamberMaster//Event Calendar 2.0//EN
METHOD:PUBLISH
X-PUBLISHED-TTL:P3D
REFRESH-INTERVAL:P3D
CALSCALE:GREGORIAN
BEGIN:VEVENT
DTSTART;VALUE=DATE:20100926
DTEND;VALUE=DATE:20100927
TRANSP:TRANSPARENT
X-MICROSOFT-CDO-ALLDAYEVENT:TRUE
SUMMARY:Color Sunday
DESCRIPTION:Hwy 65 Scenic and Historic Byway Color Sunday and Powderhorn Resort will be offering the best way to view the colors.  Lift rides to the top of the mountain (weather permitting)\, live music\, bump n jump\, the Sunset Grille and Bar and The Alpine Trader and Cafe will be open for your enjoyment.
X-ALT-DESC;FMTTYPE=text/html:Hwy 65 Scenic and Historic Byway Color Sunday and Powderhorn Resort will be offering the best way to view the colors.  Lift rides to the top of the mountain (weather permitting)\, live music\, bump n jump\, the Sunset Grille and Bar and The Alpine Trader and Cafe will be open for your enjoyment.\n<br>
LOCATION:Powderhorn Resort
UID:e.562.286
SEQUENCE:3
DTSTAMP:20260419T184945Z
URL:http://palisade.mobileappview.com/events/details/color-sunday-09-26-2010-286
END:VEVENT

END:VCALENDAR
