BEGIN:VCALENDAR
VERSION:2.0
PRODID:-//ChamberMaster//Event Calendar 2.0//EN
METHOD:PUBLISH
X-PUBLISHED-TTL:P3D
REFRESH-INTERVAL:P3D
CALSCALE:GREGORIAN
BEGIN:VEVENT
DTSTART:20100307T030000Z
DTEND:20100307T060000Z
X-MICROSOFT-CDO-ALLDAYEVENT:FALSE
SUMMARY:Chicken George
DESCRIPTION:Chicken George performs live Blues Rock music at the Bistro 743 Lounge at the Doubletree Hotel. Must be 21 or older!
X-ALT-DESC;FMTTYPE=text/html:Chicken George performs live Blues Rock music at the Bistro 743 Lounge at the Doubletree Hotel. Must be 21 or older!
LOCATION:743 Horizon Drive
UID:e.562.167
SEQUENCE:3
DTSTAMP:20260420T040220Z
URL:http://palisade.mobileappview.com/events/details/chicken-george-03-06-2010-167
END:VEVENT

END:VCALENDAR
