BEGIN:VCALENDAR
VERSION:2.0
PRODID:-//ChamberMaster//Event Calendar 2.0//EN
METHOD:PUBLISH
X-PUBLISHED-TTL:P3D
REFRESH-INTERVAL:P3D
CALSCALE:GREGORIAN
BEGIN:VEVENT
DTSTART:20120714T003000Z
DTEND:20120716T040000Z
X-MICROSOFT-CDO-ALLDAYEVENT:FALSE
SUMMARY:CATS\, The Musical
DESCRIPTION:Based on T.S. Eliot's Old Possum's Book Of Practical Cats. The Jellicle cats are celebrating at the Jellicle Ball\, awaiting Old Deuteronomy's choice of which cat will be reborn into a new life. One by one\, the cats step forward to introduce themselves\, auditioning for the chance to take the journey to the Heaviside layer. Cats is the second longest-running show in Broadway history.
X-ALT-DESC;FMTTYPE=text/html:<p class="MsoNormal" style="text-justify: newspaper\; text-align: justify\; text-kashida-space: 50%\; mso-pagination: none">\n	<span lang="en-US" style="language: en-us"><o:p><span lang="en-US" style="font-family: 'comic sans ms'\; language: en-us\; mso-default-font-family: 'comic sans ms'\; mso-ascii-font-family: 'comic sans ms'\; mso-latin-font-family: 'comic sans ms'\; mso-greek-font-family: 'comic sans ms'\; mso-cyrillic-font-family: 'comic sans ms'\; mso-latinext-font-family: 'comic sans ms'\; mso-ansi-language: en-us\; mso-bidi-language: ar-sa">Based on T.S. Eliot&#39\;s Old Possum&#39\;s Book Of Practical Cats. The Jellicle cats are celebrating at the Jellicle Ball\, awaiting Old Deuteronomy&#39\;s choice of which cat will be reborn into a new life. One by one\, the cats step forward to introduce themselves\, auditioning for the chance to take the journey to the Heaviside layer. </span><span lang="en-US" style="font-style: italic\; font-family: 'comic sans ms'\; language: en-us\; mso-default-font-family: 'comic sans ms'\; mso-ascii-font-family: 'comic sans ms'\; mso-latin-font-family: 'comic sans ms'\; mso-greek-font-family: 'comic sans ms'\; mso-cyrillic-font-family: 'comic sans ms'\; mso-latinext-font-family: 'comic sans ms'\; mso-ansi-language: en-us\; mso-bidi-language: ar-sa\; mso-hebrew-font-family: arial\; mso-arabic-font-family: arial">Cats</span><span lang="en-US" style="font-family: 'comic sans ms'\; language: en-us\; mso-default-font-family: 'comic sans ms'\; mso-ascii-font-family: 'comic sans ms'\; mso-latin-font-family: 'comic sans ms'\; mso-greek-font-family: 'comic sans ms'\; mso-cyrillic-font-family: 'comic sans ms'\; mso-latinext-font-family: 'comic sans ms'\; mso-ansi-language: en-us\; mso-bidi-language: ar-sa\; mso-hebrew-font-family: arial\; mso-arabic-font-family: arial">&nbsp\;is the&nbsp\;</span><a href="http://en.wikipedia.org/wiki/List_of_the_longest-running_Broadway_shows"><span lang="en-US" style="font-family: 'comic sans ms'\; color: black\; text-decoration: none\; language: en-us\; mso-default-font-family: 'comic sans ms'\; mso-ascii-font-family: 'comic sans ms'\; mso-latin-font-family: 'comic sans ms'\; mso-greek-font-family: 'comic sans ms'\; mso-cyrillic-font-family: 'comic sans ms'\; mso-latinext-font-family: 'comic sans ms'\; mso-ansi-language: en-us\; mso-bidi-language: ar-sa\; mso-hebrew-font-family: arial\; mso-arabic-font-family: arial\; mso-armenian-font-family: calibri\; mso-currency-font-family: calibri\; text-underline: none">second longest-running show in Broadway history</span></a><span lang="en-US" style="font-family: 'comic sans ms'\; language: en-us\; mso-default-font-family: 'comic sans ms'\; mso-ascii-font-family: 'comic sans ms'\; mso-latin-font-family: 'comic sans ms'\; mso-greek-font-family: 'comic sans ms'\; mso-cyrillic-font-family: 'comic sans ms'\; mso-latinext-font-family: 'comic sans ms'\; mso-ansi-language: en-us\; mso-bidi-language: ar-sa\; mso-hebrew-font-family: calibri\; mso-armenian-font-family: calibri\; mso-currency-font-family: calibri">.</span><span lang="en-US" style="font-family: 'comic sans ms'\; language: en-us\; mso-default-font-family: 'comic sans ms'\; mso-ascii-font-family: 'comic sans ms'\; mso-latin-font-family: 'comic sans ms'\; mso-greek-font-family: 'comic sans ms'\; mso-cyrillic-font-family: 'comic sans ms'\; mso-latinext-font-family: 'comic sans ms'\; mso-ansi-language: en-us"> </span><span lang="en-US" style="font-family: 'comic sans ms'\; language: en-us\; mso-default-font-family: 'comic sans ms'\; mso-ascii-font-family: 'comic sans ms'\; mso-latin-font-family: 'comic sans ms'\; mso-greek-font-family: 'comic sans ms'\; mso-cyrillic-font-family: 'comic sans ms'\; mso-latinext-font-family: 'comic sans ms'"><o:p></o:p></span></o:p></span></p>\n<o:p>\n<p class="MsoNormal" style="mso-pagination: none">\n	<span lang="en-US" style="language: en-us"><span lang="en-US" style="language: en-us">&nbsp\;<o:p></o:p></span></span></p>\n</o:p>
LOCATION:The Avalon Theatre - 645 Main Street - Grand Junction
UID:e.562.1375
SEQUENCE:3
DTSTAMP:20260420T085537Z
URL:http://palisade.mobileappview.com/events/details/cats-the-musical-07-13-2012-1375
END:VEVENT

END:VCALENDAR
