BEGIN:VCALENDAR
VERSION:2.0
PRODID:-//ChamberMaster//Event Calendar 2.0//EN
METHOD:PUBLISH
X-PUBLISHED-TTL:P3D
REFRESH-INTERVAL:P3D
CALSCALE:GREGORIAN
BEGIN:VEVENT
DTSTART:20101216T003000Z
DTEND:20101216T023000Z
X-MICROSOFT-CDO-ALLDAYEVENT:FALSE
SUMMARY:Business After Hours Social
DESCRIPTION:The Palisade Chamber of Commerce Business After Hours Social is usually held the 3rd Wednesday of each month. \n\n	 \n\n	This event is an opportunity to network and socialize with your fellow chamber members.  Interested in joining the chamber?  Attending the social would be a fun way to meet chamber staff and learn more about membership benefits.\n\n	 \n\n	Exciting door prizes are given away each month.  Members interested in donating a door prize item to highlight your business\, please contact the chamber office.\n\n	\n\n	Door prizes donated for this month by:\n\n	\n\n	Valley Office Supplies\n\n	Powderhorn\n\n	Jim Cox\n\n	 \n\n	Refreshments are provided by the host location.
X-ALT-DESC;FMTTYPE=text/html:<div>\n	The Palisade Chamber of Commerce Business After Hours Social is usually held the 3rd Wednesday of each month.&nbsp\;</div>\n<div>\n	&nbsp\;</div>\n<div>\n	This event is an opportunity to network and socialize with your fellow chamber members.&nbsp\; Interested in joining the chamber?&nbsp\; Attending the social would be a fun way to meet chamber staff and learn more about membership benefits.</div>\n<div>\n	&nbsp\;</div>\n<div>\n	<strong>Exciting door prizes are given away each month.&nbsp\; Members interested in donating a door prize item to highlight your business\, please contact the chamber office.<br />\n	<br />\n	Door prizes donated for this month by:<br />\n	<br />\n	Valley Office Supplies<br />\n	Powderhorn<br />\n	Jim Cox</strong></div>\n<div>\n	&nbsp\;</div>\n<div>\n	Refreshments are provided by the host location.</div>\n
LOCATION:December Business After Hours hosts: Palisades National Bank 600 W. 8th Street Palisade
UID:e.562.327
SEQUENCE:3
DTSTAMP:20260419T140733Z
URL:http://palisade.mobileappview.com/events/details/business-after-hours-social-12-15-2010-327
END:VEVENT

END:VCALENDAR
