BEGIN:VCALENDAR
VERSION:2.0
PRODID:-//ChamberMaster//Event Calendar 2.0//EN
METHOD:PUBLISH
X-PUBLISHED-TTL:P3D
REFRESH-INTERVAL:P3D
CALSCALE:GREGORIAN
BEGIN:VEVENT
DTSTART:20101118T003000Z
DTEND:20101118T023000Z
X-MICROSOFT-CDO-ALLDAYEVENT:FALSE
SUMMARY:Business After Hours Social
DESCRIPTION:The Palisade Chamber of Commerce Business After Hours Social is usually held the 3rd Wednesday of each month. \n\n	 \n\n	This event is an opportunity to network and socialize with your fellow chamber members.  Interested in joining the chamber?  Attending the social would be a fun way to meet chamber staff and learn more about membership benefits.\n\n	 \n\n	Exciting door prizes are given away each month.  Members interested in donating a door prize item to highlight your business\, please contact the chamber office.\n\n	 \n\n	Refreshments are provided by the host location.
X-ALT-DESC;FMTTYPE=text/html:<div>\n	The Palisade Chamber of Commerce Business After Hours Social is usually held the 3rd Wednesday of each month.&nbsp\;</div>\n<div>\n	&nbsp\;</div>\n<div>\n	This event is an opportunity to network and socialize with your fellow chamber members.&nbsp\; Interested in joining the chamber?&nbsp\; Attending the social would be a fun way to meet chamber staff and learn more about membership benefits.</div>\n<div>\n	&nbsp\;</div>\n<div>\n	<strong>Exciting door prizes are given away each month.&nbsp\; Members interested in donating a door prize item to highlight your business\, please contact the chamber office.</strong></div>\n<div>\n	&nbsp\;</div>\n<div>\n	Refreshments are provided by the host location.</div>\n
LOCATION:November Business After Hours hosts: Bank of America Fruit & Wine Real Estate FCI Constructors Maison La Belle Vie Winery Z'Orchard to be held at: Maison La Belle Vie Winery 3575 G Road Palisade\, CO 81526
UID:e.562.326
SEQUENCE:3
DTSTAMP:20260419T153650Z
URL:http://palisade.mobileappview.com/events/details/business-after-hours-social-11-17-2010-326
END:VEVENT

END:VCALENDAR
