BEGIN:VCALENDAR
VERSION:2.0
PRODID:-//ChamberMaster//Event Calendar 2.0//EN
METHOD:PUBLISH
X-PUBLISHED-TTL:P3D
REFRESH-INTERVAL:P3D
CALSCALE:GREGORIAN
BEGIN:VEVENT
DTSTART:20100616T233000Z
DTEND:20100617T013000Z
X-MICROSOFT-CDO-ALLDAYEVENT:FALSE
SUMMARY:Business After Hours Social
DESCRIPTION:The Palisade Chamber of Commerce Business After Hours Social is usually held the 3rd Wednesday of each month.  This event is an opportunity to network and socialize with your fellow chamber members.  Interested in joining the chamber?  Attending the social would be a fun way to meet chamber staff and learn more about membership benefits. Exciting door prizes are given away each month.  Members interested in donating a door prize item to highlight your business\, please contact the chamber office. Refreshments are provided by the host location.
X-ALT-DESC;FMTTYPE=text/html:<div>The Palisade Chamber of Commerce Business After Hours Social is usually held the 3rd Wednesday of each month.&nbsp\;</div><div>&nbsp\;</div><div>This event is an opportunity to network and socialize with your fellow chamber members.&nbsp\; Interested in joining the chamber?&nbsp\; Attending the social would be a fun way to meet chamber staff and learn more about membership benefits.</div><div>&nbsp\;</div><div>Exciting door prizes are given away each month.&nbsp\; Members interested in donating a door prize item to highlight your business\, please contact the chamber office.</div><div>&nbsp\;</div><div>Refreshments are provided by the host location.</div>
LOCATION:June Business After Hours host: Grande RIver Vineyards787 Elberta AvePalissade\, CO 81526 www.granderiverwines.com
UID:e.562.227
SEQUENCE:3
DTSTAMP:20260419T231748Z
URL:http://palisade.mobileappview.com/events/details/business-after-hours-social-06-16-2010-227
END:VEVENT

END:VCALENDAR
