BEGIN:VCALENDAR
VERSION:2.0
PRODID:-//ChamberMaster//Event Calendar 2.0//EN
METHOD:PUBLISH
X-PUBLISHED-TTL:P3D
REFRESH-INTERVAL:P3D
CALSCALE:GREGORIAN
BEGIN:VEVENT
DTSTART:20100812T000000Z
DTEND:20100812T000000Z
X-MICROSOFT-CDO-ALLDAYEVENT:FALSE
SUMMARY:BOCCE at Vistas & Vineyards - bed and breakfast
DESCRIPTION:BOCCE at Vistas & Vineyards every 2nd and 4th Wednesday of the month. Starting at 6PM until dark.
X-ALT-DESC;FMTTYPE=text/html:<div>BOCCE at Vistas &amp\;&nbsp\;Vineyards every 2nd and 4th Wednesday of the month.</div><div>&nbsp\;</div><div>Starting at 6PM until dark.</div>
LOCATION:VISTAS & VINEYARDBED AND BREAKFAST 970 464 74783587 G ROAD - PALISADE - COLORADO 81526Donna & Felix Iovanni
UID:e.562.224
SEQUENCE:3
DTSTAMP:20260419T202939Z
URL:http://palisade.mobileappview.com/events/details/bocce-at-vistas-vineyards-bed-and-breakfast-08-11-2010-224
END:VEVENT

END:VCALENDAR
