BEGIN:VCALENDAR
VERSION:2.0
PRODID:-//ChamberMaster//Event Calendar 2.0//EN
METHOD:PUBLISH
X-PUBLISHED-TTL:P3D
REFRESH-INTERVAL:P3D
CALSCALE:GREGORIAN
BEGIN:VEVENT
DTSTART:20100620T160000Z
DTEND:20100620T200000Z
X-MICROSOFT-CDO-ALLDAYEVENT:FALSE
SUMMARY:Blue Pig Gallery Birthday Celebration
DESCRIPTION:Birthday cake will be served and visitors will meet special birthday guests from Pig-a-sus Homestead. The pot bellied visitors\, from the Western Colorado Pot Belly Pig Educational Health Center\, will perform special tricks and give guests the opportunity to learn more about this center. In honor of the birthday\, the Blue Pig will make a donation to the center. Sunday?s activities are free and open to the public.
X-ALT-DESC;FMTTYPE=text/html:Birthday cake will be served and visitors will meet special birthday guests from Pig-a-sus Homestead. The pot bellied visitors\, from the Western Colorado Pot Belly Pig Educational Health Center\, will perform special tricks and give guests the opportunity to learn more about this center. In honor of the birthday\, the Blue Pig will make a donation to the center. Sunday?s activities are free and open to the public.\n<br>
LOCATION:The Blue Pig Gallery\, 119 W 3rd St\, Palisade
UID:e.562.234
SEQUENCE:3
DTSTAMP:20260419T231710Z
URL:http://palisade.mobileappview.com/events/details/blue-pig-gallery-birthday-celebration-06-20-2010-234
END:VEVENT

END:VCALENDAR
