BEGIN:VCALENDAR
VERSION:2.0
PRODID:-//ChamberMaster//Event Calendar 2.0//EN
METHOD:PUBLISH
X-PUBLISHED-TTL:P3D
REFRESH-INTERVAL:P3D
CALSCALE:GREGORIAN
BEGIN:VEVENT
DTSTART:20100619T230000Z
DTEND:20100620T020000Z
X-MICROSOFT-CDO-ALLDAYEVENT:FALSE
SUMMARY:Blue Pig Gallery Birthday Celebration
DESCRIPTION:The Blue Pig Latin themed festivities will begin on Saturday\, June 19\, 2010\, with a Latin style feast featuring a tasting menu by popular chef\, Theo Otte of 626 on Rood.  Plum Creek Winery will sell wine tastings. Call the gallery to reserve a space for the ?appy-Hay irthday-Bay party.?
X-ALT-DESC;FMTTYPE=text/html:The Blue Pig Latin themed festivities will begin on Saturday\, June 19\, 2010\, with a Latin style feast featuring a tasting menu by popular chef\, Theo Otte of 626 on Rood.  Plum Creek Winery will sell wine tastings. Call the gallery to reserve a space for the ?appy-Hay irthday-Bay party.? \n<br>
LOCATION:The Blue Pig Gallery\, 119 W 3rd St\, Palisade
UID:e.562.233
SEQUENCE:3
DTSTAMP:20260419T231614Z
URL:http://palisade.mobileappview.com/events/details/blue-pig-gallery-birthday-celebration-06-19-2010-233
END:VEVENT

END:VCALENDAR
