BEGIN:VCALENDAR
VERSION:2.0
PRODID:-//ChamberMaster//Event Calendar 2.0//EN
METHOD:PUBLISH
X-PUBLISHED-TTL:P3D
REFRESH-INTERVAL:P3D
CALSCALE:GREGORIAN
BEGIN:VEVENT
DTSTART:20110104T180000Z
DTEND:20110105T010000Z
X-MICROSOFT-CDO-ALLDAYEVENT:FALSE
SUMMARY:Bits & Pieces with Gayle Gerson
DESCRIPTION:Artist\, Gayle Gerson\, offers the opportunity to explore the crazy-quilt possibilities of collage at the Blue Pig Gallery.  Each creative session will start with a short demo of a collage technique by Gayle followed by working alone.  Be sure to get your materials lists when you RSVP.  $25 per session.  Call 970-464-4819 to reserve a spot for the 11 - 2 or 2 - 6 session.
X-ALT-DESC;FMTTYPE=text/html:Artist\, Gayle Gerson\, offers the opportunity to explore the crazy-quilt possibilities of collage at the Blue Pig Gallery.  Each creative session will start with a short demo of a collage technique by Gayle followed by working alone.  Be sure to get your materials lists when you RSVP.  $25 per session.  Call 970-464-4819 to reserve a spot for the 11 - 2 or 2 - 6 session.
LOCATION:The Blue Pig Gallery\, 119 W 3rd St\, Palisade
UID:e.562.328
SEQUENCE:3
DTSTAMP:20260419T122512Z
URL:http://palisade.mobileappview.com/events/details/bits-pieces-with-gayle-gerson-01-04-2011-328
END:VEVENT

END:VCALENDAR
