BEGIN:VCALENDAR
VERSION:2.0
PRODID:-//ChamberMaster//Event Calendar 2.0//EN
METHOD:PUBLISH
X-PUBLISHED-TTL:P3D
REFRESH-INTERVAL:P3D
CALSCALE:GREGORIAN
BEGIN:VEVENT
DTSTART:20100601T170000Z
DTEND:20100601T230000Z
X-MICROSOFT-CDO-ALLDAYEVENT:FALSE
SUMMARY:Bits and Pieces with Artist\, Gayle Gerson
DESCRIPTION:Gayle offers the opportunity to explore the crazy-quilt possibilities of collage every first Tuesday at The Blue Pig. Each creative session will start with a short demo of a collage technique by Gayle followed by working alone. Be sure to get your materials lists when you R.S.V.P. $15.00 per session. Call to schedule your session for anytime after 11 a.m. and make art for 4 hour sessions.
X-ALT-DESC;FMTTYPE=text/html:Gayle offers the opportunity to explore the crazy-quilt possibilities of collage every first Tuesday at The Blue Pig. Each creative session will start with a short demo of a collage technique by Gayle followed by working alone. Be sure to get your materials lists when you R.S.V.P. $15.00 per session. Call to schedule your session for anytime after 11 a.m. and make art for 4 hour sessions. \n<br>
LOCATION:The Blue Pig Gallery\, 119 W 3rd St\, Palisade
UID:e.562.228
SEQUENCE:3
DTSTAMP:20260419T231954Z
URL:http://palisade.mobileappview.com/events/details/bits-and-pieces-with-artist-gayle-gerson-06-01-2010-228
END:VEVENT

END:VCALENDAR
