BEGIN:VCALENDAR
VERSION:2.0
PRODID:-//ChamberMaster//Event Calendar 2.0//EN
METHOD:PUBLISH
X-PUBLISHED-TTL:P3D
REFRESH-INTERVAL:P3D
CALSCALE:GREGORIAN
BEGIN:VEVENT
DTSTART:20100302T180000Z
DTEND:20100303T000000Z
X-MICROSOFT-CDO-ALLDAYEVENT:FALSE
SUMMARY:Bits and Pieces with Artist\, Gayle Gerson
DESCRIPTION:Artist\, Gayle Gerson offers the opportunity to explore the crazy-quilt possibilities of collage every first Tuesday at The Blue Pig Gallery. Each creative session will start with a short demo of a collage technique by Gayle followed by working alone. Be sure to get your materials lists when you R.S.V.P. $15.00 per session. Call 464-4819 and register to make art for 4 hour sessions.
X-ALT-DESC;FMTTYPE=text/html:Artist\, Gayle Gerson offers the opportunity to explore the crazy-quilt possibilities of collage every first Tuesday at The Blue Pig Gallery. Each creative session will start with a short demo of a collage technique by Gayle followed by working alone. Be sure to get your materials lists when you R.S.V.P. $15.00 per session. Call 464-4819 and register to make art for 4 hour sessions. \n<br>
LOCATION:The Blue Pig Gallery\, 119 W 3rd St\, Palisade
UID:e.562.156
SEQUENCE:3
DTSTAMP:20260420T040730Z
URL:http://palisade.mobileappview.com/events/details/bits-and-pieces-with-artist-gayle-gerson-03-02-2010-156
END:VEVENT

END:VCALENDAR
