BEGIN:VCALENDAR
VERSION:2.0
PRODID:-//ChamberMaster//Event Calendar 2.0//EN
METHOD:PUBLISH
X-PUBLISHED-TTL:P3D
REFRESH-INTERVAL:P3D
CALSCALE:GREGORIAN
BEGIN:VEVENT
DTSTART:20091027T190000Z
DTEND:20091027T233000Z
X-MICROSOFT-CDO-ALLDAYEVENT:FALSE
SUMMARY:Beginning Oil Painting with David Cook
DESCRIPTION:This is a great opportunity for beginning oil painters and for learning new techniques from a renown Instructor.  What do you want to get out of your four hours? Let us know and reserve your spot.
X-ALT-DESC;FMTTYPE=text/html:This is a great opportunity for beginning oil painters and for learning new techniques from a renown Instructor.  What do you want to get out of your four hours? Let us know and reserve your spot. 
LOCATION:The Blue Pig Gallery\, 119 W 3rd St\, Palisade
UID:e.562.96
SEQUENCE:3
DTSTAMP:20260422T124242Z
URL:http://palisade.mobileappview.com/events/details/beginning-oil-painting-with-david-cook-10-27-2009-96
END:VEVENT

END:VCALENDAR
